BEGIN:VCALENDAR
VERSION:2.0
CALSCALE:GREGORIAN
BEGIN:VEVENT
URL:https://www.learndesk.us/class/5271819248467968/lesson/60b6912d4b9040d5c0faf1f958bd4d6a?ref=outlook-calendar
SUMMARY:Installing MongoDb
DTSTART;TZID=America/Los_Angeles:20260420T190000
DTEND;TZID=America/Los_Angeles:20260420T200000
LOCATION:https://www.learndesk.us/class/5271819248467968/lesson/60b6912d4b9040d5c0faf1f958bd4d6a?ref=outlook-calendar
DESCRIPTION: The students will know the resources for download and installing the MongoDb server. They will understand the meaning and functions of the two .exe files in the bin folder of the installation.

https://www.learndesk.us/class/5271819248467968/lesson/60b6912d4b9040d5c0faf1f958bd4d6a?ref=outlook-calendar
STATUS:CONFIRMED
SEQUENCE:3
BEGIN:VALARM
TRIGGER:-PT10M
DESCRIPTION:Class Reminder
ACTION:DISPLAY
END:VALARM
END:VEVENT
END:VCALENDAR