BEGIN:VCALENDAR
VERSION:2.0
CALSCALE:GREGORIAN
BEGIN:VEVENT
URL:https://www.learndesk.us/class/5271819248467968/lesson/48346cf35170317f3c5963430891091f?ref=outlook-calendar
SUMMARY:Comparing NoSQL databases with relational databases
DTSTART;TZID=America/Los_Angeles:20260420T190000
DTEND;TZID=America/Los_Angeles:20260420T200000
LOCATION:https://www.learndesk.us/class/5271819248467968/lesson/48346cf35170317f3c5963430891091f?ref=outlook-calendar
DESCRIPTION: This lecture discusses and compares the two common types of databases: NoSQL and RDBMS (Relational Database). The students will be able to see the relatives merits of both.

https://www.learndesk.us/class/5271819248467968/lesson/48346cf35170317f3c5963430891091f?ref=outlook-calendar
STATUS:CONFIRMED
SEQUENCE:3
BEGIN:VALARM
TRIGGER:-PT10M
DESCRIPTION:Class Reminder
ACTION:DISPLAY
END:VALARM
END:VEVENT
END:VCALENDAR