BEGIN:VCALENDAR
VERSION:2.0
CALSCALE:GREGORIAN
BEGIN:VEVENT
URL:https://www.learndesk.us/class/5271819248467968/lesson/46e1740879f1afbe6470f807035618a7?ref=outlook-calendar
SUMMARY:Create the Insert View to Add a New Customer
DTSTART;TZID=America/Los_Angeles:20260420T190000
DTEND;TZID=America/Los_Angeles:20260420T200000
LOCATION:https://www.learndesk.us/class/5271819248467968/lesson/46e1740879f1afbe6470f807035618a7?ref=outlook-calendar
DESCRIPTION: This lesson walks through the process and creates the Insert view to add a new customer to the database.

https://www.learndesk.us/class/5271819248467968/lesson/46e1740879f1afbe6470f807035618a7?ref=outlook-calendar
STATUS:CONFIRMED
SEQUENCE:3
BEGIN:VALARM
TRIGGER:-PT10M
DESCRIPTION:Class Reminder
ACTION:DISPLAY
END:VALARM
END:VEVENT
END:VCALENDAR