BEGIN:VCALENDAR
VERSION:2.0
CALSCALE:GREGORIAN
BEGIN:VEVENT
URL:https://www.learndesk.us/class/5271819248467968/lesson/40d90c2335db90cd85e78f982c1844d7?ref=outlook-calendar
SUMMARY:Quizzing ASP.NET Core 3
DTSTART;TZID=America/Los_Angeles:20260422T190000
DTEND;TZID=America/Los_Angeles:20260422T200000
LOCATION:https://www.learndesk.us/class/5271819248467968/lesson/40d90c2335db90cd85e78f982c1844d7?ref=outlook-calendar
DESCRIPTION: It is a fun quiz to assess how much the learner has grasped the concepts of ASP.NET Core3

https://www.learndesk.us/class/5271819248467968/lesson/40d90c2335db90cd85e78f982c1844d7?ref=outlook-calendar
STATUS:CONFIRMED
SEQUENCE:3
BEGIN:VALARM
TRIGGER:-PT10M
DESCRIPTION:Class Reminder
ACTION:DISPLAY
END:VALARM
END:VEVENT
END:VCALENDAR