BEGIN:VCALENDAR
VERSION:2.0
CALSCALE:GREGORIAN
BEGIN:VEVENT
URL:https://www.learndesk.us/class/5271819248467968/lesson/3e4f5ed7428b0e3000c1aa98767e2272?ref=outlook-calendar
SUMMARY:Create the ConfirmDelete Action Methods to Confirm the Customer before Deleting
DTSTART;TZID=America/Los_Angeles:20260420T190000
DTEND;TZID=America/Los_Angeles:20260420T200000
LOCATION:https://www.learndesk.us/class/5271819248467968/lesson/3e4f5ed7428b0e3000c1aa98767e2272?ref=outlook-calendar
DESCRIPTION: This lesson walks through the process and creates the ConfirmDelete action method to confirm before deleting a customer from the database.

https://www.learndesk.us/class/5271819248467968/lesson/3e4f5ed7428b0e3000c1aa98767e2272?ref=outlook-calendar
STATUS:CONFIRMED
SEQUENCE:3
BEGIN:VALARM
TRIGGER:-PT10M
DESCRIPTION:Class Reminder
ACTION:DISPLAY
END:VALARM
END:VEVENT
END:VCALENDAR