BEGIN:VCALENDAR
VERSION:2.0
CALSCALE:GREGORIAN
BEGIN:VEVENT
URL:https://www.learndesk.us/class/5271819248467968/lesson/2b034751ec9a2b863cb05d6f54101627?ref=outlook-calendar
SUMMARY:Answers For the Assignment - Writing and Testing the MongoDB Queries
DTSTART;TZID=America/Los_Angeles:20260420T190000
DTEND;TZID=America/Los_Angeles:20260420T200000
LOCATION:https://www.learndesk.us/class/5271819248467968/lesson/2b034751ec9a2b863cb05d6f54101627?ref=outlook-calendar
DESCRIPTION: Please refer the attached file for answers

https://www.learndesk.us/class/5271819248467968/lesson/2b034751ec9a2b863cb05d6f54101627?ref=outlook-calendar
STATUS:CONFIRMED
SEQUENCE:3
BEGIN:VALARM
TRIGGER:-PT10M
DESCRIPTION:Class Reminder
ACTION:DISPLAY
END:VALARM
END:VEVENT
END:VCALENDAR