BEGIN:VCALENDAR
VERSION:2.0
CALSCALE:GREGORIAN
BEGIN:VEVENT
URL:https://www.learndesk.us/class/5271819248467968/lesson/28bbd1decdf4058a23fde3afc6b3ae20?ref=outlook-calendar
SUMMARY:Create the ConfirmDelete View to Confirm the Customer Before Deleting
DTSTART;TZID=America/Los_Angeles:20260420T190000
DTEND;TZID=America/Los_Angeles:20260420T200000
LOCATION:https://www.learndesk.us/class/5271819248467968/lesson/28bbd1decdf4058a23fde3afc6b3ae20?ref=outlook-calendar
DESCRIPTION: Walks through the process and creates the ConfirmDelete view to confirm the customer for deletion

https://www.learndesk.us/class/5271819248467968/lesson/28bbd1decdf4058a23fde3afc6b3ae20?ref=outlook-calendar
STATUS:CONFIRMED
SEQUENCE:3
BEGIN:VALARM
TRIGGER:-PT10M
DESCRIPTION:Class Reminder
ACTION:DISPLAY
END:VALARM
END:VEVENT
END:VCALENDAR