BEGIN:VCALENDAR
VERSION:2.0
CALSCALE:GREGORIAN
BEGIN:VEVENT
URL:https://www.learndesk.us/class/5271819248467968/lesson/158fbdf0738c2d8311b8eede2328bbed?ref=outlook-calendar
SUMMARY:Querying the MongoDB Database - Part 1
DTSTART;TZID=America/Los_Angeles:20260422T190000
DTEND;TZID=America/Los_Angeles:20260422T200000
LOCATION:https://www.learndesk.us/class/5271819248467968/lesson/158fbdf0738c2d8311b8eede2328bbed?ref=outlook-calendar
DESCRIPTION: This lecture introduces the queries in MongoDB for the read and insert operations. The students will know the query syntax for these and will have some hands-on practice on the Mongo shell(on Windows command prompt).

https://www.learndesk.us/class/5271819248467968/lesson/158fbdf0738c2d8311b8eede2328bbed?ref=outlook-calendar
STATUS:CONFIRMED
SEQUENCE:3
BEGIN:VALARM
TRIGGER:-PT10M
DESCRIPTION:Class Reminder
ACTION:DISPLAY
END:VALARM
END:VEVENT
END:VCALENDAR