BEGIN:VCALENDAR
VERSION:2.0
CALSCALE:GREGORIAN
BEGIN:VEVENT
URL:https://www.learndesk.us/class/5271819248467968/lesson/1282216fbd5466944c16b8da782c85ce?ref=outlook-calendar
SUMMARY:Create Get Customer By Id View to Show the Customer by Id
DTSTART;TZID=America/Los_Angeles:20260420T190000
DTEND;TZID=America/Los_Angeles:20260420T200000
LOCATION:https://www.learndesk.us/class/5271819248467968/lesson/1282216fbd5466944c16b8da782c85ce?ref=outlook-calendar
DESCRIPTION: This lecture walks through the steps to create a view to show the customer by Id.

https://www.learndesk.us/class/5271819248467968/lesson/1282216fbd5466944c16b8da782c85ce?ref=outlook-calendar
STATUS:CONFIRMED
SEQUENCE:3
BEGIN:VALARM
TRIGGER:-PT10M
DESCRIPTION:Class Reminder
ACTION:DISPLAY
END:VALARM
END:VEVENT
END:VCALENDAR