BEGIN:VCALENDAR
VERSION:2.0
CALSCALE:GREGORIAN
BEGIN:VEVENT
URL:https://www.learndesk.us/class/5271819248467968/lesson/0739503ae784a38e62deaa7d24c98e4c?ref=outlook-calendar
SUMMARY:Resource - Creating a MongoDB Database
DTSTART;TZID=America/Los_Angeles:20260420T190000
DTEND;TZID=America/Los_Angeles:20260420T200000
LOCATION:https://www.learndesk.us/class/5271819248467968/lesson/0739503ae784a38e62deaa7d24c98e4c?ref=outlook-calendar
DESCRIPTION: Additional resource file for reference

https://www.learndesk.us/class/5271819248467968/lesson/0739503ae784a38e62deaa7d24c98e4c?ref=outlook-calendar
STATUS:CONFIRMED
SEQUENCE:3
BEGIN:VALARM
TRIGGER:-PT10M
DESCRIPTION:Class Reminder
ACTION:DISPLAY
END:VALARM
END:VEVENT
END:VCALENDAR