BEGIN:VCALENDAR
VERSION:2.0
CALSCALE:GREGORIAN
BEGIN:VEVENT
URL:https://www.learndesk.us/class/5271819248467968/lesson/05f33ca6f7d9ef5061880f687091ca38?ref=outlook-calendar
SUMMARY:What is a NoSQL Database and why they are needed?
DTSTART;TZID=America/Los_Angeles:20260420T190000
DTEND;TZID=America/Los_Angeles:20260420T200000
LOCATION:https://www.learndesk.us/class/5271819248467968/lesson/05f33ca6f7d9ef5061880f687091ca38?ref=outlook-calendar
DESCRIPTION: The students will develop an understanding of the NoSQL concept. This course uses MongoDB as a database which is a popular NoSQL document-based database.

https://www.learndesk.us/class/5271819248467968/lesson/05f33ca6f7d9ef5061880f687091ca38?ref=outlook-calendar
STATUS:CONFIRMED
SEQUENCE:3
BEGIN:VALARM
TRIGGER:-PT10M
DESCRIPTION:Class Reminder
ACTION:DISPLAY
END:VALARM
END:VEVENT
END:VCALENDAR