BEGIN:VCALENDAR
VERSION:2.0
CALSCALE:GREGORIAN
BEGIN:VEVENT
URL:https://www.learndesk.us/class/5269277064036352/lesson/cedec24838a14050932f1edd6230099d?ref=outlook-calendar
SUMMARY:Model question -10
DTSTART;TZID=America/Los_Angeles:20260422T190000
DTEND;TZID=America/Los_Angeles:20260422T200000
LOCATION:https://www.learndesk.us/class/5269277064036352/lesson/cedec24838a14050932f1edd6230099d?ref=outlook-calendar
DESCRIPTION: https://www.learndesk.us/class/5269277064036352/lesson/cedec24838a14050932f1edd6230099d?ref=outlook-calendar
STATUS:CONFIRMED
SEQUENCE:3
BEGIN:VALARM
TRIGGER:-PT10M
DESCRIPTION:Class Reminder
ACTION:DISPLAY
END:VALARM
END:VEVENT
END:VCALENDAR