BEGIN:VCALENDAR
VERSION:2.0
CALSCALE:GREGORIAN
BEGIN:VEVENT
URL:https://www.learndesk.us/class/5269277064036352/lesson/c3b5169bb2029b1d91fba26a60869a47?ref=outlook-calendar
SUMMARY:Model question -14
DTSTART;TZID=America/Los_Angeles:20260422T190000
DTEND;TZID=America/Los_Angeles:20260422T200000
LOCATION:https://www.learndesk.us/class/5269277064036352/lesson/c3b5169bb2029b1d91fba26a60869a47?ref=outlook-calendar
DESCRIPTION: https://www.learndesk.us/class/5269277064036352/lesson/c3b5169bb2029b1d91fba26a60869a47?ref=outlook-calendar
STATUS:CONFIRMED
SEQUENCE:3
BEGIN:VALARM
TRIGGER:-PT10M
DESCRIPTION:Class Reminder
ACTION:DISPLAY
END:VALARM
END:VEVENT
END:VCALENDAR