BEGIN:VCALENDAR
VERSION:2.0
CALSCALE:GREGORIAN
BEGIN:VEVENT
URL:https://www.learndesk.us/class/5269277064036352/lesson/6174b064363d8ab387ce41684f4a3012?ref=outlook-calendar
SUMMARY:Model question -24
DTSTART;TZID=America/Los_Angeles:20260420T190000
DTEND;TZID=America/Los_Angeles:20260420T200000
LOCATION:https://www.learndesk.us/class/5269277064036352/lesson/6174b064363d8ab387ce41684f4a3012?ref=outlook-calendar
DESCRIPTION: https://www.learndesk.us/class/5269277064036352/lesson/6174b064363d8ab387ce41684f4a3012?ref=outlook-calendar
STATUS:CONFIRMED
SEQUENCE:3
BEGIN:VALARM
TRIGGER:-PT10M
DESCRIPTION:Class Reminder
ACTION:DISPLAY
END:VALARM
END:VEVENT
END:VCALENDAR