BEGIN:VCALENDAR
VERSION:2.0
CALSCALE:GREGORIAN
BEGIN:VEVENT
URL:https://www.learndesk.us/class/5264079595765760/lesson/b72f7dc54bd9c6c9ba18da8bedbd1b86?ref=outlook-calendar
SUMMARY:10. The Memory Palace
DTSTART;TZID=America/Los_Angeles:20260422T190000
DTEND;TZID=America/Los_Angeles:20260422T200000
LOCATION:https://www.learndesk.us/class/5264079595765760/lesson/b72f7dc54bd9c6c9ba18da8bedbd1b86?ref=outlook-calendar
DESCRIPTION: https://www.learndesk.us/class/5264079595765760/lesson/b72f7dc54bd9c6c9ba18da8bedbd1b86?ref=outlook-calendar
STATUS:CONFIRMED
SEQUENCE:3
BEGIN:VALARM
TRIGGER:-PT10M
DESCRIPTION:Class Reminder
ACTION:DISPLAY
END:VALARM
END:VEVENT
END:VCALENDAR