BEGIN:VCALENDAR
VERSION:2.0
CALSCALE:GREGORIAN
BEGIN:VEVENT
URL:https://www.learndesk.us/class/5264079595765760/lesson/b104c3849f133b5b02d728a4fb2b7c6e?ref=outlook-calendar
SUMMARY:22.The Role of Music in Memory
DTSTART;TZID=America/Los_Angeles:20260422T190000
DTEND;TZID=America/Los_Angeles:20260422T200000
LOCATION:https://www.learndesk.us/class/5264079595765760/lesson/b104c3849f133b5b02d728a4fb2b7c6e?ref=outlook-calendar
DESCRIPTION: https://www.learndesk.us/class/5264079595765760/lesson/b104c3849f133b5b02d728a4fb2b7c6e?ref=outlook-calendar
STATUS:CONFIRMED
SEQUENCE:3
BEGIN:VALARM
TRIGGER:-PT10M
DESCRIPTION:Class Reminder
ACTION:DISPLAY
END:VALARM
END:VEVENT
END:VCALENDAR