BEGIN:VCALENDAR
VERSION:2.0
CALSCALE:GREGORIAN
BEGIN:VEVENT
URL:https://www.learndesk.us/class/5264079595765760/infinite-memory-genius-2021-edition?ref=outlook-calendar
SUMMARY:Infinite Memory Genius - 2021 Edition
DTSTART;TZID=America/Los_Angeles:20260421T190000
DTEND;TZID=America/Los_Angeles:20260421T200000
LOCATION:https://www.learndesk.us/class/5264079595765760/infinite-memory-genius-2021-edition?ref=outlook-calendar
DESCRIPTION: What you get



Lifetime access to the program and all new updates that are released.
Access to the memory lab from where you can meet fellow genius learners.
Activity workbook that has over 97 drills and exercises
Completion certificate after you take the exam at the end of the course.
4 free bonus videos teaching you memory skills.
2 free bonus activity books that have additional practice material.
Customer support for any questions or doubts that you may have during the program.



What you will learn in this course?

Learning memory basics
Learn to use memory enhancers for boosting memory
Pegging objects
Learn to remember things using this trick.
Use memory palace to energize your memory
Learn to master numbers and names
Boost your grade with an educational memory technique
Learn how you can increase your memory capacity


https://www.learndesk.us/class/5264079595765760/infinite-memory-genius-2021-edition?ref=outlook-calendar
STATUS:CONFIRMED
SEQUENCE:3
BEGIN:VALARM
TRIGGER:-PT10M
DESCRIPTION:Class Reminder
ACTION:DISPLAY
END:VALARM
END:VEVENT
END:VCALENDAR