BEGIN:VCALENDAR
VERSION:2.0
CALSCALE:GREGORIAN
BEGIN:VEVENT
URL:https://www.learndesk.us/class/5244879749775360/lesson/3a64a3182060a5002a4d7d5039b90757?ref=outlook-calendar
SUMMARY:Section 03: Cloud Service Models - IaaS, PaaS and SaaS
DTSTART;TZID=America/Los_Angeles:20260420T190000
DTEND;TZID=America/Los_Angeles:20260420T200000
LOCATION:https://www.learndesk.us/class/5244879749775360/lesson/3a64a3182060a5002a4d7d5039b90757?ref=outlook-calendar
DESCRIPTION: https://www.learndesk.us/class/5244879749775360/lesson/3a64a3182060a5002a4d7d5039b90757?ref=outlook-calendar
STATUS:CONFIRMED
SEQUENCE:3
BEGIN:VALARM
TRIGGER:-PT10M
DESCRIPTION:Class Reminder
ACTION:DISPLAY
END:VALARM
END:VEVENT
END:VCALENDAR