BEGIN:VCALENDAR
VERSION:2.0
CALSCALE:GREGORIAN
BEGIN:VEVENT
URL:https://www.learndesk.us/class/5244879749775360/lesson/31d3bec6ac6bd3addf74c2085216700e?ref=outlook-calendar
SUMMARY:Cloud Broad Network Access
DTSTART;TZID=America/Los_Angeles:20260420T190000
DTEND;TZID=America/Los_Angeles:20260420T200000
LOCATION:https://www.learndesk.us/class/5244879749775360/lesson/31d3bec6ac6bd3addf74c2085216700e?ref=outlook-calendar
DESCRIPTION: https://www.learndesk.us/class/5244879749775360/lesson/31d3bec6ac6bd3addf74c2085216700e?ref=outlook-calendar
STATUS:CONFIRMED
SEQUENCE:3
BEGIN:VALARM
TRIGGER:-PT10M
DESCRIPTION:Class Reminder
ACTION:DISPLAY
END:VALARM
END:VEVENT
END:VCALENDAR