BEGIN:VCALENDAR
VERSION:2.0
CALSCALE:GREGORIAN
BEGIN:VEVENT
URL:https://www.learndesk.us/class/5244879749775360/lesson/2d32ad90d1b51b1657b813803d1d2841?ref=outlook-calendar
SUMMARY:Cloud On-Demand Self-Service
DTSTART;TZID=America/Los_Angeles:20260422T190000
DTEND;TZID=America/Los_Angeles:20260422T200000
LOCATION:https://www.learndesk.us/class/5244879749775360/lesson/2d32ad90d1b51b1657b813803d1d2841?ref=outlook-calendar
DESCRIPTION: https://www.learndesk.us/class/5244879749775360/lesson/2d32ad90d1b51b1657b813803d1d2841?ref=outlook-calendar
STATUS:CONFIRMED
SEQUENCE:3
BEGIN:VALARM
TRIGGER:-PT10M
DESCRIPTION:Class Reminder
ACTION:DISPLAY
END:VALARM
END:VEVENT
END:VCALENDAR