BEGIN:VCALENDAR
VERSION:2.0
CALSCALE:GREGORIAN
BEGIN:VEVENT
URL:https://www.learndesk.us/class/5244879749775360/lesson/1f24b200986421366731a7dae7c272d9?ref=outlook-calendar
SUMMARY:Cloud Deployment Models - Public, Private and Hybrid Cloud
DTSTART;TZID=America/Los_Angeles:20260420T190000
DTEND;TZID=America/Los_Angeles:20260420T200000
LOCATION:https://www.learndesk.us/class/5244879749775360/lesson/1f24b200986421366731a7dae7c272d9?ref=outlook-calendar
DESCRIPTION: https://www.learndesk.us/class/5244879749775360/lesson/1f24b200986421366731a7dae7c272d9?ref=outlook-calendar
STATUS:CONFIRMED
SEQUENCE:3
BEGIN:VALARM
TRIGGER:-PT10M
DESCRIPTION:Class Reminder
ACTION:DISPLAY
END:VALARM
END:VEVENT
END:VCALENDAR