BEGIN:VCALENDAR
VERSION:2.0
CALSCALE:GREGORIAN
BEGIN:VEVENT
URL:https://www.learndesk.us/class/5244879749775360/a-practical-introduction-to-cloud-computing?ref=outlook-calendar
SUMMARY:A Practical Introduction to Cloud Computing
DTSTART;TZID=America/Los_Angeles:20260420T190000
DTEND;TZID=America/Los_Angeles:20260420T200000
LOCATION:https://www.learndesk.us/class/5244879749775360/a-practical-introduction-to-cloud-computing?ref=outlook-calendar
DESCRIPTION: 
The 2nd top hit for 'cloud computing' on Google says 'cloud computing is a general term for the delivery of hosted services over the internet.' Unfortunately, that definition is completely wrong. This course is designed to clear up the many misunderstandings about cloud computing and to give you a crystal clear and easy-to-understand explanation of exactly what it is, how it works, the different options available, the advantages provided, and how much it's going to cost. And I'm not just going to give you the theory, I'm going to show you practical examples that you can follow along with yourself so you'll understand exactly how cloud computing works in the real world.
What will you learn in this course?

I start off with a review in module 1 of the traditional deployment models of on-premises and colo so you can understand how cloud changes things, then explain how server virtualization revolutionized data center design and paved the way for cloud
Module 2 defines cloud computing...

https://www.learndesk.us/class/5244879749775360/a-practical-introduction-to-cloud-computing?ref=outlook-calendar
STATUS:CONFIRMED
SEQUENCE:3
BEGIN:VALARM
TRIGGER:-PT10M
DESCRIPTION:Class Reminder
ACTION:DISPLAY
END:VALARM
END:VEVENT
END:VCALENDAR