BEGIN:VCALENDAR
VERSION:2.0
CALSCALE:GREGORIAN
BEGIN:VEVENT
URL:https://www.learndesk.us/class/5235253620768768/lesson/f74f9b79b3d9ae0e32e0ea46017aa78a?ref=outlook-calendar
SUMMARY:Squaring 2 Digit Numbers
DTSTART;TZID=America/Los_Angeles:20260421T190000
DTEND;TZID=America/Los_Angeles:20260421T200000
LOCATION:https://www.learndesk.us/class/5235253620768768/lesson/f74f9b79b3d9ae0e32e0ea46017aa78a?ref=outlook-calendar
DESCRIPTION: https://www.learndesk.us/class/5235253620768768/lesson/f74f9b79b3d9ae0e32e0ea46017aa78a?ref=outlook-calendar
STATUS:CONFIRMED
SEQUENCE:3
BEGIN:VALARM
TRIGGER:-PT10M
DESCRIPTION:Class Reminder
ACTION:DISPLAY
END:VALARM
END:VEVENT
END:VCALENDAR