BEGIN:VCALENDAR
VERSION:2.0
CALSCALE:GREGORIAN
BEGIN:VEVENT
URL:https://www.learndesk.us/class/5235253620768768/lesson/e0ab5fd3b49d639be4122ab9e3c152e2?ref=outlook-calendar
SUMMARY:DAY 6 - Squaring (Part 2) and Cubing
DTSTART;TZID=America/Los_Angeles:20260421T190000
DTEND;TZID=America/Los_Angeles:20260421T200000
LOCATION:https://www.learndesk.us/class/5235253620768768/lesson/e0ab5fd3b49d639be4122ab9e3c152e2?ref=outlook-calendar
DESCRIPTION: https://www.learndesk.us/class/5235253620768768/lesson/e0ab5fd3b49d639be4122ab9e3c152e2?ref=outlook-calendar
STATUS:CONFIRMED
SEQUENCE:3
BEGIN:VALARM
TRIGGER:-PT10M
DESCRIPTION:Class Reminder
ACTION:DISPLAY
END:VALARM
END:VEVENT
END:VCALENDAR