BEGIN:VCALENDAR
VERSION:2.0
CALSCALE:GREGORIAN
BEGIN:VEVENT
URL:https://www.learndesk.us/class/5235253620768768/lesson/7003741b11a0627329a72742a0df91fa?ref=outlook-calendar
SUMMARY:DAY 3 - Multiplication (Part 1)
DTSTART;TZID=America/Los_Angeles:20260421T190000
DTEND;TZID=America/Los_Angeles:20260421T200000
LOCATION:https://www.learndesk.us/class/5235253620768768/lesson/7003741b11a0627329a72742a0df91fa?ref=outlook-calendar
DESCRIPTION: https://www.learndesk.us/class/5235253620768768/lesson/7003741b11a0627329a72742a0df91fa?ref=outlook-calendar
STATUS:CONFIRMED
SEQUENCE:3
BEGIN:VALARM
TRIGGER:-PT10M
DESCRIPTION:Class Reminder
ACTION:DISPLAY
END:VALARM
END:VEVENT
END:VCALENDAR