BEGIN:VCALENDAR
VERSION:2.0
CALSCALE:GREGORIAN
BEGIN:VEVENT
URL:https://www.learndesk.us/class/5235253620768768/lesson/0227c50be9a4edd3ebf49eb8279a7f90?ref=outlook-calendar
SUMMARY:Complementary Multiplication - Below and Above 10
DTSTART;TZID=America/Los_Angeles:20260421T190000
DTEND;TZID=America/Los_Angeles:20260421T200000
LOCATION:https://www.learndesk.us/class/5235253620768768/lesson/0227c50be9a4edd3ebf49eb8279a7f90?ref=outlook-calendar
DESCRIPTION: https://www.learndesk.us/class/5235253620768768/lesson/0227c50be9a4edd3ebf49eb8279a7f90?ref=outlook-calendar
STATUS:CONFIRMED
SEQUENCE:3
BEGIN:VALARM
TRIGGER:-PT10M
DESCRIPTION:Class Reminder
ACTION:DISPLAY
END:VALARM
END:VEVENT
END:VCALENDAR