BEGIN:VCALENDAR
VERSION:2.0
CALSCALE:GREGORIAN
BEGIN:VEVENT
URL:https://www.learndesk.us/class/5235253620768768/mind-math-genius-2021-edition?ref=outlook-calendar
SUMMARY:Mind Math Genius - 2021 Edition
DTSTART;TZID=America/Los_Angeles:20260421T190000
DTEND;TZID=America/Los_Angeles:20260421T200000
LOCATION:https://www.learndesk.us/class/5235253620768768/mind-math-genius-2021-edition?ref=outlook-calendar
DESCRIPTION: Become a genius today with mental math genius
Are you scared of numbers and equations?
Turn your 'Hate' into 'Love' for maths
Have you heard yourself saying, &lsquo;Maths is not my cup of tea&rsquo;, &lsquo;I freaking hate maths I can&rsquo;t solve this &lsquo;If yes, you aren&rsquo;t alone? Maths has gained the popularity of being the &lsquo;Most Hated&rsquo; subject among students and professionals. In my career, I have seen many students run away from mathematics like it was an angry dog running behind them and that led to a realization:

You don&rsquo;t hate maths, you just don&rsquo;t understand it.
You don&rsquo;t understand it because you get frustrated easily.

When you get frustrated, it&rsquo;s easier to hate something than to make an effort. And why should you even make an effort to understand?
Wouldn&rsquo;t the world be a perfect place with maths not around or if there&rsquo;s a secret pill to understand maths? But sadly, maths is something you can&rsquo;t ignore....

https://www.learndesk.us/class/5235253620768768/mind-math-genius-2021-edition?ref=outlook-calendar
STATUS:CONFIRMED
SEQUENCE:3
BEGIN:VALARM
TRIGGER:-PT10M
DESCRIPTION:Class Reminder
ACTION:DISPLAY
END:VALARM
END:VEVENT
END:VCALENDAR