BEGIN:VCALENDAR
VERSION:2.0
CALSCALE:GREGORIAN
BEGIN:VEVENT
URL:https://www.learndesk.us/class/5221336001544192/lesson/df197a0a8ecfce0754ba05b65351fa20?ref=outlook-calendar
SUMMARY:Individual or group plans?  Pros and cons.
DTSTART;TZID=America/Los_Angeles:20260421T190000
DTEND;TZID=America/Los_Angeles:20260421T200000
LOCATION:https://www.learndesk.us/class/5221336001544192/lesson/df197a0a8ecfce0754ba05b65351fa20?ref=outlook-calendar
DESCRIPTION: https://www.learndesk.us/class/5221336001544192/lesson/df197a0a8ecfce0754ba05b65351fa20?ref=outlook-calendar
STATUS:CONFIRMED
SEQUENCE:3
BEGIN:VALARM
TRIGGER:-PT10M
DESCRIPTION:Class Reminder
ACTION:DISPLAY
END:VALARM
END:VEVENT
END:VCALENDAR