BEGIN:VCALENDAR
VERSION:2.0
CALSCALE:GREGORIAN
BEGIN:VEVENT
URL:https://www.learndesk.us/class/5221336001544192/lesson/b9bade4a81a5a2096b8cd287548c6997?ref=outlook-calendar
SUMMARY:Short -term disability AKA Weekly Indemnity
DTSTART;TZID=America/Los_Angeles:20260421T190000
DTEND;TZID=America/Los_Angeles:20260421T200000
LOCATION:https://www.learndesk.us/class/5221336001544192/lesson/b9bade4a81a5a2096b8cd287548c6997?ref=outlook-calendar
DESCRIPTION: This video speaks about short-term disability, how it works and how it coordinates with Employment Insurance (EI) sick leave benefit. PS, this video says the EI sick leave benefit has a 2 week waiting period - that has been changed to 1 week now.

https://www.learndesk.us/class/5221336001544192/lesson/b9bade4a81a5a2096b8cd287548c6997?ref=outlook-calendar
STATUS:CONFIRMED
SEQUENCE:3
BEGIN:VALARM
TRIGGER:-PT10M
DESCRIPTION:Class Reminder
ACTION:DISPLAY
END:VALARM
END:VEVENT
END:VCALENDAR