BEGIN:VCALENDAR
VERSION:2.0
CALSCALE:GREGORIAN
BEGIN:VEVENT
URL:https://www.learndesk.us/class/5221336001544192/lesson/917e558871c4fc4115be0a9ff35c9e1f?ref=outlook-calendar
SUMMARY:Long-term disability - the COLA
DTSTART;TZID=America/Los_Angeles:20260421T190000
DTEND;TZID=America/Los_Angeles:20260421T200000
LOCATION:https://www.learndesk.us/class/5221336001544192/lesson/917e558871c4fc4115be0a9ff35c9e1f?ref=outlook-calendar
DESCRIPTION: Long-term disability coverage most commonly starts after 112 days and continues to replace earnings for a period of 2 years to age 65 (you choose). If you had an employee who became disabled as a young person and will remain disabled for decades then the relative value of their disability benefit will become eroded by inflation. Cost of Living Allowance is the solution to address that concern.

https://www.learndesk.us/class/5221336001544192/lesson/917e558871c4fc4115be0a9ff35c9e1f?ref=outlook-calendar
STATUS:CONFIRMED
SEQUENCE:3
BEGIN:VALARM
TRIGGER:-PT10M
DESCRIPTION:Class Reminder
ACTION:DISPLAY
END:VALARM
END:VEVENT
END:VCALENDAR