BEGIN:VCALENDAR
VERSION:2.0
CALSCALE:GREGORIAN
BEGIN:VEVENT
URL:https://www.learndesk.us/class/5221336001544192/lesson/37eda9ad4615e724ac7d748032b53869?ref=outlook-calendar
SUMMARY:Retaining the knowledge and experience.
DTSTART;TZID=America/Los_Angeles:20260425T190000
DTEND;TZID=America/Los_Angeles:20260425T200000
LOCATION:https://www.learndesk.us/class/5221336001544192/lesson/37eda9ad4615e724ac7d748032b53869?ref=outlook-calendar
DESCRIPTION: Great employers retain talent in their firms. The good news is that retaining the knowledge and experience allows your firm to serve your clients well! But, it becomes more challenging as your team members age as the insurance company restricts or eliminates coverage as people get older.

https://www.learndesk.us/class/5221336001544192/lesson/37eda9ad4615e724ac7d748032b53869?ref=outlook-calendar
STATUS:CONFIRMED
SEQUENCE:3
BEGIN:VALARM
TRIGGER:-PT10M
DESCRIPTION:Class Reminder
ACTION:DISPLAY
END:VALARM
END:VEVENT
END:VCALENDAR