BEGIN:VCALENDAR
VERSION:2.0
CALSCALE:GREGORIAN
BEGIN:VEVENT
URL:https://www.learndesk.us/class/5205730887991296/lesson/ee1d43c9d3813f2f5f17dbb735c6b8bf?ref=outlook-calendar
SUMMARY:Apps, URLs and Templates
DTSTART;TZID=America/Los_Angeles:20260422T190000
DTEND;TZID=America/Los_Angeles:20260422T200000
LOCATION:https://www.learndesk.us/class/5205730887991296/lesson/ee1d43c9d3813f2f5f17dbb735c6b8bf?ref=outlook-calendar
DESCRIPTION: 
In this section, we learn about apps, templates, models and migrations, admin customization & more.

Creating the pages app
Pages templates and base layout
Static files and paths
Bootstrap layout markup
Index, about and linking
Listings URLs and template



https://www.learndesk.us/class/5205730887991296/lesson/ee1d43c9d3813f2f5f17dbb735c6b8bf?ref=outlook-calendar
STATUS:CONFIRMED
SEQUENCE:3
BEGIN:VALARM
TRIGGER:-PT10M
DESCRIPTION:Class Reminder
ACTION:DISPLAY
END:VALARM
END:VEVENT
END:VCALENDAR