BEGIN:VCALENDAR
VERSION:2.0
CALSCALE:GREGORIAN
BEGIN:VEVENT
URL:https://www.learndesk.us/class/5205730887991296/lesson/e34392016f92af8ca196e7f38f771e90?ref=outlook-calendar
SUMMARY:Single Listing Page
DTSTART;TZID=America/Los_Angeles:20260424T190000
DTEND;TZID=America/Los_Angeles:20260424T200000
LOCATION:https://www.learndesk.us/class/5205730887991296/lesson/e34392016f92af8ca196e7f38f771e90?ref=outlook-calendar
DESCRIPTION: View Methods, Display and Search: Single listing page

https://www.learndesk.us/class/5205730887991296/lesson/e34392016f92af8ca196e7f38f771e90?ref=outlook-calendar
STATUS:CONFIRMED
SEQUENCE:3
BEGIN:VALARM
TRIGGER:-PT10M
DESCRIPTION:Class Reminder
ACTION:DISPLAY
END:VALARM
END:VEVENT
END:VCALENDAR