BEGIN:VCALENDAR
VERSION:2.0
CALSCALE:GREGORIAN
BEGIN:VEVENT
URL:https://www.learndesk.us/class/5205730887991296/lesson/e2d3b55724520bf7fad4cb05ddf515dc?ref=outlook-calendar
SUMMARY:Models, Migrations and Admin
DTSTART;TZID=America/Los_Angeles:20260422T190000
DTEND;TZID=America/Los_Angeles:20260422T200000
LOCATION:https://www.learndesk.us/class/5205730887991296/lesson/e2d3b55724520bf7fad4cb05ddf515dc?ref=outlook-calendar
DESCRIPTION: 
In this section, we install PostGres, look into Setup and migration. We also create listing models, create Superuser for admin display.

Install Postgres and PgAdmin
Django Postgres setup and migrate
Planning our schemas
Create listing model
Realtor model and run migrations
Create superuser and register models with admin
Media folder and adding data
Admin logo and CSS
Customize admin display data



https://www.learndesk.us/class/5205730887991296/lesson/e2d3b55724520bf7fad4cb05ddf515dc?ref=outlook-calendar
STATUS:CONFIRMED
SEQUENCE:3
BEGIN:VALARM
TRIGGER:-PT10M
DESCRIPTION:Class Reminder
ACTION:DISPLAY
END:VALARM
END:VEVENT
END:VCALENDAR