BEGIN:VCALENDAR
VERSION:2.0
CALSCALE:GREGORIAN
BEGIN:VEVENT
URL:https://www.learndesk.us/class/5205730887991296/lesson/be076ff0ced0c100b8ae601a43d83038?ref=outlook-calendar
SUMMARY:Contact Inquiries
DTSTART;TZID=America/Los_Angeles:20260422T190000
DTEND;TZID=America/Los_Angeles:20260422T200000
LOCATION:https://www.learndesk.us/class/5205730887991296/lesson/be076ff0ced0c100b8ae601a43d83038?ref=outlook-calendar
DESCRIPTION: 
In this section, we look into contacts admin customization, for submission and dashboard functionality

Contacts app and model
Contacts admin customization
Contact form prep
Contact form submission
Inquiry check and send email
Dashboard functionality



https://www.learndesk.us/class/5205730887991296/lesson/be076ff0ced0c100b8ae601a43d83038?ref=outlook-calendar
STATUS:CONFIRMED
SEQUENCE:3
BEGIN:VALARM
TRIGGER:-PT10M
DESCRIPTION:Class Reminder
ACTION:DISPLAY
END:VALARM
END:VEVENT
END:VCALENDAR