BEGIN:VCALENDAR
VERSION:2.0
CALSCALE:GREGORIAN
BEGIN:VEVENT
URL:https://www.learndesk.us/class/5205730887991296/lesson/a64c64a24b1bc5dd36a037b1e3ee0251?ref=outlook-calendar
SUMMARY:Search Form Filtering
DTSTART;TZID=America/Los_Angeles:20260422T190000
DTEND;TZID=America/Los_Angeles:20260422T200000
LOCATION:https://www.learndesk.us/class/5205730887991296/lesson/a64c64a24b1bc5dd36a037b1e3ee0251?ref=outlook-calendar
DESCRIPTION: View Methods, Displayand Search: Search form filtering

https://www.learndesk.us/class/5205730887991296/lesson/a64c64a24b1bc5dd36a037b1e3ee0251?ref=outlook-calendar
STATUS:CONFIRMED
SEQUENCE:3
BEGIN:VALARM
TRIGGER:-PT10M
DESCRIPTION:Class Reminder
ACTION:DISPLAY
END:VALARM
END:VEVENT
END:VCALENDAR