BEGIN:VCALENDAR
VERSION:2.0
CALSCALE:GREGORIAN
BEGIN:VEVENT
URL:https://www.learndesk.us/class/5205730887991296/lesson/994b3126cc64bb192771bb439024c4ea?ref=outlook-calendar
SUMMARY:Course Introduction
DTSTART;TZID=America/Los_Angeles:20260422T190000
DTEND;TZID=America/Los_Angeles:20260422T200000
LOCATION:https://www.learndesk.us/class/5205730887991296/lesson/994b3126cc64bb192771bb439024c4ea?ref=outlook-calendar
DESCRIPTION: 
In this section, we are introduced to the course and learn more about Django.

Welcome to the course
A look at the project
What is Django



https://www.learndesk.us/class/5205730887991296/lesson/994b3126cc64bb192771bb439024c4ea?ref=outlook-calendar
STATUS:CONFIRMED
SEQUENCE:3
BEGIN:VALARM
TRIGGER:-PT10M
DESCRIPTION:Class Reminder
ACTION:DISPLAY
END:VALARM
END:VEVENT
END:VCALENDAR