BEGIN:VCALENDAR
VERSION:2.0
CALSCALE:GREGORIAN
BEGIN:VEVENT
URL:https://www.learndesk.us/class/5205730887991296/lesson/9726464aaf7f295db6a9cc0d78e8f860?ref=outlook-calendar
SUMMARY:View Methods, Display and Search
DTSTART;TZID=America/Los_Angeles:20260422T190000
DTEND;TZID=America/Los_Angeles:20260422T200000
LOCATION:https://www.learndesk.us/class/5205730887991296/lesson/9726464aaf7f295db6a9cc0d78e8f860?ref=outlook-calendar
DESCRIPTION: 
In this section, learn to use Listings model, pagination, ordering and filtering and to create a search form choices.

Pull data from listings model
Display listings in template
Pagination, order and filter
Home and about page dynamic content
Single listing page
Search form choices
Search form filtering
Preserving form input



https://www.learndesk.us/class/5205730887991296/lesson/9726464aaf7f295db6a9cc0d78e8f860?ref=outlook-calendar
STATUS:CONFIRMED
SEQUENCE:3
BEGIN:VALARM
TRIGGER:-PT10M
DESCRIPTION:Class Reminder
ACTION:DISPLAY
END:VALARM
END:VEVENT
END:VCALENDAR