BEGIN:VCALENDAR
VERSION:2.0
CALSCALE:GREGORIAN
BEGIN:VEVENT
URL:https://www.learndesk.us/class/5205730887991296/lesson/909c0aa64b54dfe18f89cd204fea0175?ref=outlook-calendar
SUMMARY:Register and Login Templates
DTSTART;TZID=America/Los_Angeles:20260425T190000
DTEND;TZID=America/Los_Angeles:20260425T200000
LOCATION:https://www.learndesk.us/class/5205730887991296/lesson/909c0aa64b54dfe18f89cd204fea0175?ref=outlook-calendar
DESCRIPTION: Accounts and Authentication: Register and login templates

https://www.learndesk.us/class/5205730887991296/lesson/909c0aa64b54dfe18f89cd204fea0175?ref=outlook-calendar
STATUS:CONFIRMED
SEQUENCE:3
BEGIN:VALARM
TRIGGER:-PT10M
DESCRIPTION:Class Reminder
ACTION:DISPLAY
END:VALARM
END:VEVENT
END:VCALENDAR