BEGIN:VCALENDAR
VERSION:2.0
CALSCALE:GREGORIAN
BEGIN:VEVENT
URL:https://www.learndesk.us/class/5205730887991296/lesson/8d7e186239dc1d542d9086a41aa85d92?ref=outlook-calendar
SUMMARY:Install Postgres and PgAdmin
DTSTART;TZID=America/Los_Angeles:20260424T190000
DTEND;TZID=America/Los_Angeles:20260424T200000
LOCATION:https://www.learndesk.us/class/5205730887991296/lesson/8d7e186239dc1d542d9086a41aa85d92?ref=outlook-calendar
DESCRIPTION: Models, Migrations and Admin: Install Postgres and PgAdmin

https://www.learndesk.us/class/5205730887991296/lesson/8d7e186239dc1d542d9086a41aa85d92?ref=outlook-calendar
STATUS:CONFIRMED
SEQUENCE:3
BEGIN:VALARM
TRIGGER:-PT10M
DESCRIPTION:Class Reminder
ACTION:DISPLAY
END:VALARM
END:VEVENT
END:VCALENDAR