BEGIN:VCALENDAR
VERSION:2.0
CALSCALE:GREGORIAN
BEGIN:VEVENT
URL:https://www.learndesk.us/class/5205730887991296/lesson/7ddb1e194e7584f6005a49282f5a6117?ref=outlook-calendar
SUMMARY:Virtual Environment Setup
DTSTART;TZID=America/Los_Angeles:20260422T190000
DTEND;TZID=America/Los_Angeles:20260422T200000
LOCATION:https://www.learndesk.us/class/5205730887991296/lesson/7ddb1e194e7584f6005a49282f5a6117?ref=outlook-calendar
DESCRIPTION: Project Specs and Getting Started: Virtual environment setup

https://www.learndesk.us/class/5205730887991296/lesson/7ddb1e194e7584f6005a49282f5a6117?ref=outlook-calendar
STATUS:CONFIRMED
SEQUENCE:3
BEGIN:VALARM
TRIGGER:-PT10M
DESCRIPTION:Class Reminder
ACTION:DISPLAY
END:VALARM
END:VEVENT
END:VCALENDAR