BEGIN:VCALENDAR
VERSION:2.0
CALSCALE:GREGORIAN
BEGIN:VEVENT
URL:https://www.learndesk.us/class/5205730887991296/lesson/6baa024adfb9a26ad96f3bc1f64c1788?ref=outlook-calendar
SUMMARY:Django Install and Project Setup
DTSTART;TZID=America/Los_Angeles:20260422T190000
DTEND;TZID=America/Los_Angeles:20260422T200000
LOCATION:https://www.learndesk.us/class/5205730887991296/lesson/6baa024adfb9a26ad96f3bc1f64c1788?ref=outlook-calendar
DESCRIPTION: Project Specs and Getting Started: Django install and project setup

https://www.learndesk.us/class/5205730887991296/lesson/6baa024adfb9a26ad96f3bc1f64c1788?ref=outlook-calendar
STATUS:CONFIRMED
SEQUENCE:3
BEGIN:VALARM
TRIGGER:-PT10M
DESCRIPTION:Class Reminder
ACTION:DISPLAY
END:VALARM
END:VEVENT
END:VCALENDAR