BEGIN:VCALENDAR
VERSION:2.0
CALSCALE:GREGORIAN
BEGIN:VEVENT
URL:https://www.learndesk.us/class/5205730887991296/lesson/5ec167e20fe547e335585c693a604e8d?ref=outlook-calendar
SUMMARY:Server Security
DTSTART;TZID=America/Los_Angeles:20260422T190000
DTEND;TZID=America/Los_Angeles:20260422T200000
LOCATION:https://www.learndesk.us/class/5205730887991296/lesson/5ec167e20fe547e335585c693a604e8d?ref=outlook-calendar
DESCRIPTION: Django Deployment: Server security

https://www.learndesk.us/class/5205730887991296/lesson/5ec167e20fe547e335585c693a604e8d?ref=outlook-calendar
STATUS:CONFIRMED
SEQUENCE:3
BEGIN:VALARM
TRIGGER:-PT10M
DESCRIPTION:Class Reminder
ACTION:DISPLAY
END:VALARM
END:VEVENT
END:VCALENDAR