BEGIN:VCALENDAR
VERSION:2.0
CALSCALE:GREGORIAN
BEGIN:VEVENT
URL:https://www.learndesk.us/class/5205730887991296/lesson/5090a6edb49bc0edfa5cc05c556a4686?ref=outlook-calendar
SUMMARY:Python Language Fundamentals (Optional)
DTSTART;TZID=America/Los_Angeles:20260422T190000
DTEND;TZID=America/Los_Angeles:20260422T200000
LOCATION:https://www.learndesk.us/class/5205730887991296/lesson/5090a6edb49bc0edfa5cc05c556a4686?ref=outlook-calendar
DESCRIPTION: 
Here, learn Python and its core fundamental syntax.

Variables and Data types
Strings and Formatting
Lists
Tuples and Sets
Dictionaries
Functions
Conditionals
Loops
Modules
Classes
Files
Working with JSON



https://www.learndesk.us/class/5205730887991296/lesson/5090a6edb49bc0edfa5cc05c556a4686?ref=outlook-calendar
STATUS:CONFIRMED
SEQUENCE:3
BEGIN:VALARM
TRIGGER:-PT10M
DESCRIPTION:Class Reminder
ACTION:DISPLAY
END:VALARM
END:VEVENT
END:VCALENDAR