BEGIN:VCALENDAR
VERSION:2.0
CALSCALE:GREGORIAN
BEGIN:VEVENT
URL:https://www.learndesk.us/class/5205730887991296/lesson/4925ff0a3829b0fb5bd053ef11dc26f9?ref=outlook-calendar
SUMMARY:Bootstrap Layout Markup
DTSTART;TZID=America/Los_Angeles:20260422T190000
DTEND;TZID=America/Los_Angeles:20260422T200000
LOCATION:https://www.learndesk.us/class/5205730887991296/lesson/4925ff0a3829b0fb5bd053ef11dc26f9?ref=outlook-calendar
DESCRIPTION: Apps, URLs and Templates: Bootstrap layout markup

https://www.learndesk.us/class/5205730887991296/lesson/4925ff0a3829b0fb5bd053ef11dc26f9?ref=outlook-calendar
STATUS:CONFIRMED
SEQUENCE:3
BEGIN:VALARM
TRIGGER:-PT10M
DESCRIPTION:Class Reminder
ACTION:DISPLAY
END:VALARM
END:VEVENT
END:VCALENDAR