BEGIN:VCALENDAR
VERSION:2.0
CALSCALE:GREGORIAN
BEGIN:VEVENT
URL:https://www.learndesk.us/class/5205730887991296/lesson/48dac353590d3f32629adf03abd4f2b1?ref=outlook-calendar
SUMMARY:Conditionals
DTSTART;TZID=America/Los_Angeles:20260422T190000
DTEND;TZID=America/Los_Angeles:20260422T200000
LOCATION:https://www.learndesk.us/class/5205730887991296/lesson/48dac353590d3f32629adf03abd4f2b1?ref=outlook-calendar
DESCRIPTION: Python Language Fundamentals: Conditionals

https://www.learndesk.us/class/5205730887991296/lesson/48dac353590d3f32629adf03abd4f2b1?ref=outlook-calendar
STATUS:CONFIRMED
SEQUENCE:3
BEGIN:VALARM
TRIGGER:-PT10M
DESCRIPTION:Class Reminder
ACTION:DISPLAY
END:VALARM
END:VEVENT
END:VCALENDAR