BEGIN:VCALENDAR
VERSION:2.0
CALSCALE:GREGORIAN
BEGIN:VEVENT
URL:https://www.learndesk.us/class/5205730887991296/lesson/45281744d07a30656d43c4e1f2290b23?ref=outlook-calendar
SUMMARY:Getting Setup
DTSTART;TZID=America/Los_Angeles:20260422T190000
DTEND;TZID=America/Los_Angeles:20260422T200000
LOCATION:https://www.learndesk.us/class/5205730887991296/lesson/45281744d07a30656d43c4e1f2290b23?ref=outlook-calendar
DESCRIPTION: 
In this section, we get started with Python installation on Mac and Windows.

Python 3 Mac install
Python 3 Windows install
VSCode and Python Sandbox setup



https://www.learndesk.us/class/5205730887991296/lesson/45281744d07a30656d43c4e1f2290b23?ref=outlook-calendar
STATUS:CONFIRMED
SEQUENCE:3
BEGIN:VALARM
TRIGGER:-PT10M
DESCRIPTION:Class Reminder
ACTION:DISPLAY
END:VALARM
END:VEVENT
END:VCALENDAR