BEGIN:VCALENDAR
VERSION:2.0
CALSCALE:GREGORIAN
BEGIN:VEVENT
URL:https://www.learndesk.us/class/5205730887991296/lesson/44c74feee03fa0f2462f34278e52fd15?ref=outlook-calendar
SUMMARY:Django Deployment
DTSTART;TZID=America/Los_Angeles:20260422T190000
DTEND;TZID=America/Los_Angeles:20260422T200000
LOCATION:https://www.learndesk.us/class/5205730887991296/lesson/44c74feee03fa0f2462f34278e52fd15?ref=outlook-calendar
DESCRIPTION: 
In this section, we build virtual environments and deploy using Gunicorn and Nginx.

Pushing to Github
Droplet setup and SSH keys
Server security
Software and database setup
Virtual env and file pull
Local settings file
Server migrations and data
Gunicorn setup and config
Nginx setup
Adding a domain



https://www.learndesk.us/class/5205730887991296/lesson/44c74feee03fa0f2462f34278e52fd15?ref=outlook-calendar
STATUS:CONFIRMED
SEQUENCE:3
BEGIN:VALARM
TRIGGER:-PT10M
DESCRIPTION:Class Reminder
ACTION:DISPLAY
END:VALARM
END:VEVENT
END:VCALENDAR