BEGIN:VCALENDAR
VERSION:2.0
CALSCALE:GREGORIAN
BEGIN:VEVENT
URL:https://www.learndesk.us/class/5205730887991296/lesson/2e2299372177594dc3cc1ff7658ef94e?ref=outlook-calendar
SUMMARY:Project Specs and Getting Started
DTSTART;TZID=America/Los_Angeles:20260422T190000
DTEND;TZID=America/Los_Angeles:20260422T200000
LOCATION:https://www.learndesk.us/class/5205730887991296/lesson/2e2299372177594dc3cc1ff7658ef94e?ref=outlook-calendar
DESCRIPTION: 
In this section, we look into resources and setup for Virtual Environment.

Project resources and requirements
A look at the Bootstrap theme
Virtual environment setup
Django install and project setup
Exploring the initial files and running the server



https://www.learndesk.us/class/5205730887991296/lesson/2e2299372177594dc3cc1ff7658ef94e?ref=outlook-calendar
STATUS:CONFIRMED
SEQUENCE:3
BEGIN:VALARM
TRIGGER:-PT10M
DESCRIPTION:Class Reminder
ACTION:DISPLAY
END:VALARM
END:VEVENT
END:VCALENDAR