BEGIN:VCALENDAR
VERSION:2.0
CALSCALE:GREGORIAN
BEGIN:VEVENT
URL:https://www.learndesk.us/class/5205730887991296/lesson/13533f28a80b4031de5737bce6562f92?ref=outlook-calendar
SUMMARY:Listings URLs and Template
DTSTART;TZID=America/Los_Angeles:20260422T190000
DTEND;TZID=America/Los_Angeles:20260422T200000
LOCATION:https://www.learndesk.us/class/5205730887991296/lesson/13533f28a80b4031de5737bce6562f92?ref=outlook-calendar
DESCRIPTION: Apps, URLs and Templates: Listings URLs and Template

https://www.learndesk.us/class/5205730887991296/lesson/13533f28a80b4031de5737bce6562f92?ref=outlook-calendar
STATUS:CONFIRMED
SEQUENCE:3
BEGIN:VALARM
TRIGGER:-PT10M
DESCRIPTION:Class Reminder
ACTION:DISPLAY
END:VALARM
END:VEVENT
END:VCALENDAR